BEGIN:VCALENDAR
PRODID:-//HKUST Drupal Platform//EN
VERSION:2.0
BEGIN:VTIMEZONE
TZID:Asia/Hong_Kong
BEGIN:STANDARD
DTSTART:20071104T020000
TZOFFSETFROM:+0700
TZOFFSETTO:+0800
TZNAME:HKT
END:STANDARD
END:VTIMEZONE
BEGIN:VEVENT
DTSTAMP;TZID=Asia/Hong_Kong:20260426T051933
DTSTART;TZID=Asia/Hong_Kong:20250221T100000
DTEND;TZID=Asia/Hong_Kong:20250221T130000
LOCATION:C1，East，421（GZ）, HKUST
SUMMARY:PHD in Individual Interdisci Prog - Low-cost Automated Construction of Vectorized High-definition Road Maps for Intelligent Vehicles
UID:43122
END:VEVENT
END:VCALENDAR