BEGIN:VCALENDAR
PRODID:-//HKUST Drupal Platform//EN
VERSION:2.0
BEGIN:VTIMEZONE
TZID:Asia/Hong_Kong
BEGIN:STANDARD
DTSTART:20071104T020000
TZOFFSETFROM:+0700
TZOFFSETTO:+0800
TZNAME:HKT
END:STANDARD
END:VTIMEZONE
BEGIN:VEVENT
DTSTAMP;TZID=Asia/Hong_Kong:20260426T092254
DTSTART;TZID=Asia/Hong_Kong:20250224T160000
DTEND;TZID=Asia/Hong_Kong:20250224T190000
LOCATION:Zoom: 936 1632 0694, Passcode: dsa2025 / Room 4472 (Lift 25-26), HKUST
SUMMARY:PHD in Individual Interdisci Prog - Towards Trustworthy Large Language Models: Fairness, Robustness, and Reliability
UID:43121
END:VEVENT
END:VCALENDAR