BEGIN:VCALENDAR
PRODID:-//HKUST Drupal Platform//EN
VERSION:2.0
BEGIN:VTIMEZONE
TZID:Asia/Hong_Kong
BEGIN:STANDARD
DTSTART:20071104T020000
TZOFFSETFROM:+0700
TZOFFSETTO:+0800
TZNAME:HKT
END:STANDARD
END:VTIMEZONE
BEGIN:VEVENT
DTSTAMP;TZID=Asia/Hong_Kong:20260425T224545
DTSTART;TZID=Asia/Hong_Kong:20250313T140000
DTEND;TZID=Asia/Hong_Kong:20250313T170000
LOCATION: , HKUST
SUMMARY:MPhil in Electronic & Comp Engg - CS-Net: Convolutional Spider Neural Network for sEMG-Based Mixed Gesture Recognition
UID:43120
END:VEVENT
END:VCALENDAR