BEGIN:VCALENDAR
PRODID:-//HKUST Drupal Platform//EN
VERSION:2.0
BEGIN:VTIMEZONE
TZID:Asia/Hong_Kong
BEGIN:STANDARD
DTSTART:20071104T020000
TZOFFSETFROM:+0700
TZOFFSETTO:+0800
TZNAME:HKT
END:STANDARD
END:VTIMEZONE
BEGIN:VEVENT
DTSTAMP;TZID=Asia/Hong_Kong:20260426T035632
DTSTART;TZID=Asia/Hong_Kong:20250224T100000
DTEND;TZID=Asia/Hong_Kong:20250224T130000
LOCATION: , HKUST
SUMMARY:MPhil in Environmental Engg - The Formation, Fate, and Speciation of Disinfection Byproducts During Shock Chlorination of a Seawater Reverse Osmosis Desalination Pilot and in the Blended and Chlorinated Potable Water Produced
UID:43060
END:VEVENT
END:VCALENDAR