BEGIN:VCALENDAR
PRODID:-//HKUST Drupal Platform//EN
VERSION:2.0
BEGIN:VTIMEZONE
TZID:Asia/Hong_Kong
BEGIN:STANDARD
DTSTART:20071104T020000
TZOFFSETFROM:+0700
TZOFFSETTO:+0800
TZNAME:HKT
END:STANDARD
END:VTIMEZONE
BEGIN:VEVENT
DTSTAMP;TZID=Asia/Hong_Kong:20260426T120036
DTSTART;TZID=Asia/Hong_Kong:20250116T143000
DTEND;TZID=Asia/Hong_Kong:20250116T173000
LOCATION:Room 2302 (Lifts 17-18), 2/F Academic Building, HKUST
SUMMARY:PHD in Electronic & Comp Engg - Polarization-Entangled Photon-Pair Sources from Microring Resonators for Integrated Quantum Photonic Circuits
UID:42958
END:VEVENT
END:VCALENDAR