BEGIN:VCALENDAR
PRODID:-//HKUST Drupal Platform//EN
VERSION:2.0
BEGIN:VTIMEZONE
TZID:Asia/Hong_Kong
BEGIN:STANDARD
DTSTART:20071104T020000
TZOFFSETFROM:+0700
TZOFFSETTO:+0800
TZNAME:HKT
END:STANDARD
END:VTIMEZONE
BEGIN:VEVENT
DTSTAMP;TZID=Asia/Hong_Kong:20260420T185840
DTSTART;TZID=Asia/Hong_Kong:20241205T101500
DTEND;TZID=Asia/Hong_Kong:20241205T111500
LOCATION:Room 4503,  4/F (Lifts 25-26), Academic Building
SUMMARY:Department of Chemistry - PhD Student Seminar - The Application of Low-Dimensional Nanomaterials (LDNs) in Flexible Wearable Technology
UID:42758
END:VEVENT
END:VCALENDAR