BEGIN:VCALENDAR
PRODID:-//HKUST Drupal Platform//EN
VERSION:2.0
BEGIN:VTIMEZONE
TZID:Asia/Hong_Kong
BEGIN:STANDARD
DTSTART:20071104T020000
TZOFFSETFROM:+0700
TZOFFSETTO:+0800
TZNAME:HKT
END:STANDARD
END:VTIMEZONE
BEGIN:VEVENT
DTSTAMP;TZID=Asia/Hong_Kong:20260420T180825
DTSTART;TZID=Asia/Hong_Kong:20241030T140000
DTEND;TZID=Asia/Hong_Kong:20241030T153000
LOCATION:Room 1103, 1/F (Near LTA), Academic Building
SUMMARY:Department of Chemistry Seminar - Nickel or Palladium-Catalyzed Decarbonylative Transformations of Acyl Fluorides and Chlorides  - Speaker: Professor Yasushi NISHIHARA  Institution: Okayama University  Hosted By: Professor Rongbiao TONG
UID:42164
END:VEVENT
END:VCALENDAR