BEGIN:VCALENDAR
PRODID:-//HKUST Drupal Platform//EN
VERSION:2.0
BEGIN:VTIMEZONE
TZID:Asia/Hong_Kong
BEGIN:STANDARD
DTSTART:20071104T020000
TZOFFSETFROM:+0700
TZOFFSETTO:+0800
TZNAME:HKT
END:STANDARD
END:VTIMEZONE
BEGIN:VEVENT
DTSTAMP;TZID=Asia/Hong_Kong:20260420T190207
DTSTART;TZID=Asia/Hong_Kong:20240925T000000
DTEND;TZID=Asia/Hong_Kong:20241014T235900
LOCATION:Zoom
SUMMARY:2024 Sustainable Smart Campus Student Competition 
UID:42153
END:VEVENT
END:VCALENDAR