BEGIN:VCALENDAR
PRODID:-//HKUST Drupal Platform//EN
VERSION:2.0
BEGIN:VTIMEZONE
TZID:Asia/Hong_Kong
BEGIN:STANDARD
DTSTART:20071104T020000
TZOFFSETFROM:+0700
TZOFFSETTO:+0800
TZNAME:HKT
END:STANDARD
END:VTIMEZONE
BEGIN:VEVENT
DTSTAMP;TZID=Asia/Hong_Kong:20260420T084758
DTSTART;TZID=Asia/Hong_Kong:20241010T160000
DTEND;TZID=Asia/Hong_Kong:20241010T170000
LOCATION:Room 3574 (Lift 27/28), Civil Engineering Conference Room, HKUST
SUMMARY:Civil Engineering Departmental Seminar  - Advanced Characterization of Drinking Water Disinfection Byproducts
UID:42025
END:VEVENT
END:VCALENDAR