BEGIN:VCALENDAR
PRODID:-//HKUST Drupal Platform//EN
VERSION:2.0
BEGIN:VTIMEZONE
TZID:Asia/Hong_Kong
BEGIN:STANDARD
DTSTART:20071104T020000
TZOFFSETFROM:+0700
TZOFFSETTO:+0800
TZNAME:HKT
END:STANDARD
END:VTIMEZONE
BEGIN:VEVENT
DTSTAMP;TZID=Asia/Hong_Kong:20260420T164038
DTSTART;TZID=Asia/Hong_Kong:20240902T103000
DTEND;TZID=Asia/Hong_Kong:20240902T120000
LOCATION:Room 2303, 2/F (Lifts 17-18), Academic Building
SUMMARY:Department of Chemistry Seminar - Cu- or Fe-based aerobic oxidation reactions
UID:41838
END:VEVENT
END:VCALENDAR