BEGIN:VCALENDAR
PRODID:-//HKUST Drupal Platform//EN
VERSION:2.0
BEGIN:VTIMEZONE
TZID:Asia/Hong_Kong
BEGIN:STANDARD
DTSTART:20071104T020000
TZOFFSETFROM:+0700
TZOFFSETTO:+0800
TZNAME:HKT
END:STANDARD
END:VTIMEZONE
BEGIN:VEVENT
DTSTAMP;TZID=Asia/Hong_Kong:20260420T042807
DTSTART;TZID=Asia/Hong_Kong:20240620T143000
DTEND;TZID=Asia/Hong_Kong:20240620T163000
LOCATION:Room 1409, Academic Building (Lifts 25-26)
SUMMARY:“Tianhe Xingyi” application introduction and training seminar 新壹代國產超算系統「天河星逸」宣講及培訓會
UID:41202
END:VEVENT
END:VCALENDAR