BEGIN:VCALENDAR
PRODID:-//HKUST Drupal Platform//EN
VERSION:2.0
BEGIN:VTIMEZONE
TZID:Asia/Hong_Kong
BEGIN:STANDARD
DTSTART:20071104T020000
TZOFFSETFROM:+0700
TZOFFSETTO:+0800
TZNAME:HKT
END:STANDARD
END:VTIMEZONE
BEGIN:VEVENT
DTSTAMP;TZID=Asia/Hong_Kong:20260420T180825
DTSTART;TZID=Asia/Hong_Kong:20240528T133000
DTEND;TZID=Asia/Hong_Kong:20240528T173000
LOCATION:Lecture Hall C & E2-228
SUMMARY:X射线示范实验室挂牌仪式暨X射线技术进展研讨会＆高分辨衍射培训班 
UID:41017
END:VEVENT
BEGIN:VEVENT
DTSTAMP;TZID=Asia/Hong_Kong:20260420T180825
DTSTART;TZID=Asia/Hong_Kong:20240529T133000
DTEND;TZID=Asia/Hong_Kong:20240529T173000
LOCATION:Lecture Hall C & E2-228
SUMMARY:X射线示范实验室挂牌仪式暨X射线技术进展研讨会＆高分辨衍射培训班 
UID:41017
END:VEVENT
BEGIN:VEVENT
DTSTAMP;TZID=Asia/Hong_Kong:20260420T180825
DTSTART;TZID=Asia/Hong_Kong:20240530T133000
DTEND;TZID=Asia/Hong_Kong:20240530T173000
LOCATION:Lecture Hall C & E2-228
SUMMARY:X射线示范实验室挂牌仪式暨X射线技术进展研讨会＆高分辨衍射培训班 
UID:41017
END:VEVENT
END:VCALENDAR