BEGIN:VCALENDAR
PRODID:-//HKUST Drupal Platform//EN
VERSION:2.0
BEGIN:VTIMEZONE
TZID:Asia/Hong_Kong
BEGIN:STANDARD
DTSTART:20071104T020000
TZOFFSETFROM:+0700
TZOFFSETTO:+0800
TZNAME:HKT
END:STANDARD
END:VTIMEZONE
BEGIN:VEVENT
DTSTAMP;TZID=Asia/Hong_Kong:20260420T192630
DTSTART;TZID=Asia/Hong_Kong:20240528T110000
DTEND;TZID=Asia/Hong_Kong:20240528T120000
LOCATION:Room 5583, 5/F (Lifts 29-30), Academic Building
SUMMARY:Department of Chemistry - PhD Student Seminar - The Chemical Perspective in Topological Superconductor
UID:40967
END:VEVENT
END:VCALENDAR