BEGIN:VCALENDAR
PRODID:-//HKUST Drupal Platform//EN
VERSION:2.0
BEGIN:VTIMEZONE
TZID:Asia/Hong_Kong
BEGIN:STANDARD
DTSTART:20071104T020000
TZOFFSETFROM:+0700
TZOFFSETTO:+0800
TZNAME:HKT
END:STANDARD
END:VTIMEZONE
BEGIN:VEVENT
DTSTAMP;TZID=Asia/Hong_Kong:20260420T152252
DTSTART;TZID=Asia/Hong_Kong:20240608T083000
DTEND;TZID=Asia/Hong_Kong:20240608T183000
LOCATION:Citigroup Lecture Theater (LT-A), HKUST
SUMMARY:第二屆未來海上人居工程發展技術研討會 The 2nd Symposium on Latest Advances in Marine Land Development Technology
UID:40734
END:VEVENT
END:VCALENDAR