BEGIN:VCALENDAR
PRODID:-//HKUST Drupal Platform//EN
VERSION:2.0
BEGIN:VTIMEZONE
TZID:Asia/Hong_Kong
BEGIN:STANDARD
DTSTART:20071104T020000
TZOFFSETFROM:+0700
TZOFFSETTO:+0800
TZNAME:HKT
END:STANDARD
END:VTIMEZONE
BEGIN:VEVENT
DTSTAMP;TZID=Asia/Hong_Kong:20260420T180825
DTSTART;TZID=Asia/Hong_Kong:20240425T150000
DTEND;TZID=Asia/Hong_Kong:20240425T153000
LOCATION:Lam Woo Lecture Theater 林護演講廳 (LT-B)
SUMMARY:百度​「文心杯」創業大賽 - 宣講會
UID:40724
END:VEVENT
END:VCALENDAR