BEGIN:VCALENDAR
PRODID:-//HKUST Drupal Platform//EN
VERSION:2.0
BEGIN:VTIMEZONE
TZID:Asia/Hong_Kong
BEGIN:STANDARD
DTSTART:20071104T020000
TZOFFSETFROM:+0700
TZOFFSETTO:+0800
TZNAME:HKT
END:STANDARD
END:VTIMEZONE
BEGIN:VEVENT
DTSTAMP;TZID=Asia/Hong_Kong:20260420T180903
DTSTART;TZID=Asia/Hong_Kong:20240423T190000
DTEND;TZID=Asia/Hong_Kong:20240423T210000
LOCATION:科技大學學術大樓4503教室
SUMMARY:中國科學技術大學蘇州高等研究院 - 香港地區學者交流研討會 (香港科大)
UID:40718
END:VEVENT
END:VCALENDAR