BEGIN:VCALENDAR
PRODID:-//HKUST Drupal Platform//EN
VERSION:2.0
BEGIN:VTIMEZONE
TZID:Asia/Hong_Kong
BEGIN:STANDARD
DTSTART:20071104T020000
TZOFFSETFROM:+0700
TZOFFSETTO:+0800
TZNAME:HKT
END:STANDARD
END:VTIMEZONE
BEGIN:VEVENT
DTSTAMP;TZID=Asia/Hong_Kong:20260423T091336
DTSTART;TZID=Asia/Hong_Kong:20240415T140000
DTEND;TZID=Asia/Hong_Kong:20240415T150000
LOCATION:W4-102 (Zoom ID: 98455830290，Password: 713005)
SUMMARY:Public Research Seminar by Sustainable Energy and Environment Thrust, HKUST(GZ)  - Nanoengineering for Advanced Materials & Structures with Applications in Water Harvesting and Heat Dissipation
UID:40590
END:VEVENT
END:VCALENDAR