BEGIN:VCALENDAR
PRODID:-//HKUST Drupal Platform//EN
VERSION:2.0
BEGIN:VTIMEZONE
TZID:Asia/Hong_Kong
BEGIN:STANDARD
DTSTART:20071104T020000
TZOFFSETFROM:+0700
TZOFFSETTO:+0800
TZNAME:HKT
END:STANDARD
END:VTIMEZONE
BEGIN:VEVENT
DTSTAMP;TZID=Asia/Hong_Kong:20260420T221928
DTSTART;TZID=Asia/Hong_Kong:20240307T150000
DTEND;TZID=Asia/Hong_Kong:20240307T163000
LOCATION:Room 3598, 3/F (Lifts 27-28), Academic Building, HKUST
SUMMARY:Department of Chemistry Seminar - Colloidal Quantum Dot Nanocrystals: Synthesis, Self-Assembly and Applications
UID:40074
END:VEVENT
END:VCALENDAR