BEGIN:VCALENDAR
PRODID:-//HKUST Drupal Platform//EN
VERSION:2.0
BEGIN:VTIMEZONE
TZID:Asia/Hong_Kong
BEGIN:STANDARD
DTSTART:20071104T020000
TZOFFSETFROM:+0700
TZOFFSETTO:+0800
TZNAME:HKT
END:STANDARD
END:VTIMEZONE
BEGIN:VEVENT
DTSTAMP;TZID=Asia/Hong_Kong:20260420T180823
DTSTART;TZID=Asia/Hong_Kong:20240229T091500
DTEND;TZID=Asia/Hong_Kong:20240229T170500
LOCATION:Rayson Huang Theatre, The University of Hong Kong
SUMMARY:Hong Kong Green Week  - Leveraging Partnership by BuildTech in Public Housing
UID:39958
END:VEVENT
END:VCALENDAR