BEGIN:VCALENDAR
PRODID:-//HKUST Drupal Platform//EN
VERSION:2.0
BEGIN:VTIMEZONE
TZID:Asia/Hong_Kong
BEGIN:STANDARD
DTSTART:20071104T020000
TZOFFSETFROM:+0700
TZOFFSETTO:+0800
TZNAME:HKT
END:STANDARD
END:VTIMEZONE
BEGIN:VEVENT
DTSTAMP;TZID=Asia/Hong_Kong:20260420T180830
DTSTART;TZID=Asia/Hong_Kong:20240205T140000
DTEND;TZID=Asia/Hong_Kong:20240205T200000
LOCATION:SSC Hub (14:00 - 1700); Hall 5 (5 Feb 17:00 - 20:00); Hall 6 (6 Feb 17:00 - 20:00)
SUMMARY:Let\'s Go Green Together! - Green Lifestyle App Promotion
UID:39949
END:VEVENT
BEGIN:VEVENT
DTSTAMP;TZID=Asia/Hong_Kong:20260420T180830
DTSTART;TZID=Asia/Hong_Kong:20240206T140000
DTEND;TZID=Asia/Hong_Kong:20240206T200000
LOCATION:SSC Hub (14:00 - 1700); Hall 5 (5 Feb 17:00 - 20:00); Hall 6 (6 Feb 17:00 - 20:00)
SUMMARY:Let\'s Go Green Together! - Green Lifestyle App Promotion
UID:39949
END:VEVENT
END:VCALENDAR