BEGIN:VCALENDAR
PRODID:-//HKUST Drupal Platform//EN
VERSION:2.0
BEGIN:VTIMEZONE
TZID:Asia/Hong_Kong
BEGIN:STANDARD
DTSTART:20071104T020000
TZOFFSETFROM:+0700
TZOFFSETTO:+0800
TZNAME:HKT
END:STANDARD
END:VTIMEZONE
BEGIN:VEVENT
DTSTAMP;TZID=Asia/Hong_Kong:20260420T192631
DTSTART;TZID=Asia/Hong_Kong:20231130T100000
DTEND;TZID=Asia/Hong_Kong:20231130T113000
LOCATION:Room 4504, 4/F (Lifts 25-26), Academic Building, HKUST
SUMMARY:Department of Chemistry Seminar - Photo-physics, magnetism, conductivity and self-assembly of d- and f-block metal complexes
UID:39264
END:VEVENT
END:VCALENDAR