BEGIN:VCALENDAR
PRODID:-//HKUST Drupal Platform//EN
VERSION:2.0
BEGIN:VTIMEZONE
TZID:Asia/Hong_Kong
BEGIN:STANDARD
DTSTART:20071104T020000
TZOFFSETFROM:+0700
TZOFFSETTO:+0800
TZNAME:HKT
END:STANDARD
END:VTIMEZONE
BEGIN:VEVENT
DTSTAMP;TZID=Asia/Hong_Kong:20260420T192909
DTSTART;TZID=Asia/Hong_Kong:20231103T143000
DTEND;TZID=Asia/Hong_Kong:20231103T173000
LOCATION:RB2 Site (the carpark adjacent to the Conference Lodge) and Chinese Garden (near Senior Staff Quarter 15 – 19)
SUMMARY:Tree Transplantation Activity
UID:39263
END:VEVENT
END:VCALENDAR