BEGIN:VCALENDAR
PRODID:-//HKUST Drupal Platform//EN
VERSION:2.0
BEGIN:VTIMEZONE
TZID:Asia/Hong_Kong
BEGIN:STANDARD
DTSTART:20071104T020000
TZOFFSETFROM:+0700
TZOFFSETTO:+0800
TZNAME:HKT
END:STANDARD
END:VTIMEZONE
BEGIN:VEVENT
DTSTAMP;TZID=Asia/Hong_Kong:20260420T152211
DTSTART;TZID=Asia/Hong_Kong:20231014T140000
DTEND;TZID=Asia/Hong_Kong:20231014T153000
LOCATION:香港科技大學 賽馬會高等研究所盧家聰薈萃樓
SUMMARY:『香港科大雄彬一號』帶你走進航天領域  - 講座將介紹「香港科大雄彬一號」
UID:39014
END:VEVENT
END:VCALENDAR