BEGIN:VCALENDAR
PRODID:-//HKUST Drupal Platform//EN
VERSION:2.0
BEGIN:VTIMEZONE
TZID:Asia/Hong_Kong
BEGIN:STANDARD
DTSTART:20071104T020000
TZOFFSETFROM:+0700
TZOFFSETTO:+0800
TZNAME:HKT
END:STANDARD
END:VTIMEZONE
BEGIN:VEVENT
DTSTAMP;TZID=Asia/Hong_Kong:20260421T005043
DTSTART;TZID=Asia/Hong_Kong:20231031T090000
DTEND;TZID=Asia/Hong_Kong:20231031T123000
LOCATION:香港科技大學協同創業中心創業基地 (1/F, 近29&30號電梯) 
SUMMARY:BICI科技商業化經驗分享及經費申請簡報
UID:38985
END:VEVENT
END:VCALENDAR