BEGIN:VCALENDAR
PRODID:-//HKUST Drupal Platform//EN
VERSION:2.0
BEGIN:VTIMEZONE
TZID:Asia/Hong_Kong
BEGIN:STANDARD
DTSTART:20071104T020000
TZOFFSETFROM:+0700
TZOFFSETTO:+0800
TZNAME:HKT
END:STANDARD
END:VTIMEZONE
BEGIN:VEVENT
DTSTAMP;TZID=Asia/Hong_Kong:20260420T192629
DTSTART;TZID=Asia/Hong_Kong:20231127T103000
DTEND;TZID=Asia/Hong_Kong:20231127T120000
LOCATION:Room 1409, 1/F (near Lifts 25-26), Academic Building, HKUST
SUMMARY:Department of Chemistry Seminar - Aromatic Metamorphosis
UID:38904
END:VEVENT
END:VCALENDAR