BEGIN:VCALENDAR
PRODID:-//HKUST Drupal Platform//EN
VERSION:2.0
BEGIN:VTIMEZONE
TZID:Asia/Hong_Kong
BEGIN:STANDARD
DTSTART:20071104T020000
TZOFFSETFROM:+0700
TZOFFSETTO:+0800
TZNAME:HKT
END:STANDARD
END:VTIMEZONE
BEGIN:VEVENT
DTSTAMP;TZID=Asia/Hong_Kong:20260420T181355
DTSTART;TZID=Asia/Hong_Kong:20231016T150000
DTEND;TZID=Asia/Hong_Kong:20231016T160000
LOCATION:Room 1409, 1/F, (near Lifts 25-26), Academic Building, HKUST
SUMMARY:Department of Chemistry Seminar - Modeling of Reactions in Confined Spaces
UID:38684
END:VEVENT
END:VCALENDAR