BEGIN:VCALENDAR
PRODID:-//HKUST Drupal Platform//EN
VERSION:2.0
BEGIN:VTIMEZONE
TZID:Asia/Hong_Kong
BEGIN:STANDARD
DTSTART:20071104T020000
TZOFFSETFROM:+0700
TZOFFSETTO:+0800
TZNAME:HKT
END:STANDARD
END:VTIMEZONE
BEGIN:VEVENT
DTSTAMP;TZID=Asia/Hong_Kong:20260420T142918
DTSTART;TZID=Asia/Hong_Kong:20230923T100000
DTEND;TZID=Asia/Hong_Kong:20230923T120000
LOCATION:Choi Hung Estate
SUMMARY:“Meet you under the Rainbow” - Choi Hung Estate Community Guided Tour (Sep)
UID:38519
END:VEVENT
END:VCALENDAR