BEGIN:VCALENDAR
PRODID:-//HKUST Drupal Platform//EN
VERSION:2.0
BEGIN:VTIMEZONE
TZID:Asia/Hong_Kong
BEGIN:STANDARD
DTSTART:20071104T020000
TZOFFSETFROM:+0700
TZOFFSETTO:+0800
TZNAME:HKT
END:STANDARD
END:VTIMEZONE
BEGIN:VEVENT
DTSTAMP;TZID=Asia/Hong_Kong:20260420T164043
DTSTART;TZID=Asia/Hong_Kong:20230831T150000
DTEND;TZID=Asia/Hong_Kong:20230831T163000
SUMMARY:Guangdong-Hong Kong-Macao Greater Bay Area  - High-value Patent Portfolio Layout Competition 2023 Online training (Hong Kong and Macao station)
UID:38479
END:VEVENT
END:VCALENDAR