BEGIN:VCALENDAR
PRODID:-//HKUST Drupal Platform//EN
VERSION:2.0
BEGIN:VTIMEZONE
TZID:Asia/Hong_Kong
BEGIN:STANDARD
DTSTART:20071104T020000
TZOFFSETFROM:+0700
TZOFFSETTO:+0800
TZNAME:HKT
END:STANDARD
END:VTIMEZONE
BEGIN:VEVENT
DTSTAMP;TZID=Asia/Hong_Kong:20260420T192938
DTSTART;TZID=Asia/Hong_Kong:20230712T140000
DTEND;TZID=Asia/Hong_Kong:20230712T150000
LOCATION:Room 4502, 4/F (Lifts 25-26), Academic Building, HKUST
SUMMARY:Department of Chemistry Seminar - Insights into Scientific Publishing and Writing Tips
UID:38095
END:VEVENT
END:VCALENDAR