BEGIN:VCALENDAR
PRODID:-//HKUST Drupal Platform//EN
VERSION:2.0
BEGIN:VTIMEZONE
TZID:Asia/Hong_Kong
BEGIN:STANDARD
DTSTART:20071104T020000
TZOFFSETFROM:+0700
TZOFFSETTO:+0800
TZNAME:HKT
END:STANDARD
END:VTIMEZONE
BEGIN:VEVENT
DTSTAMP;TZID=Asia/Hong_Kong:20260420T222002
DTSTART;TZID=Asia/Hong_Kong:20230825T104500
DTEND;TZID=Asia/Hong_Kong:20230825T114500
LOCATION:Room 2306, 2/F (Lifts 17-18), Academic Building, HKUST
SUMMARY:Department of Chemistry Seminar - Chemoselective Aerobic Alcohol Oxidation by Nitroxyl Radical/Copper Cooperative Catalysis
UID:37860
END:VEVENT
END:VCALENDAR