BEGIN:VCALENDAR
PRODID:-//HKUST Drupal Platform//EN
VERSION:2.0
BEGIN:VTIMEZONE
TZID:Asia/Hong_Kong
BEGIN:STANDARD
DTSTART:20071104T020000
TZOFFSETFROM:+0700
TZOFFSETTO:+0800
TZNAME:HKT
END:STANDARD
END:VTIMEZONE
BEGIN:VEVENT
DTSTAMP;TZID=Asia/Hong_Kong:20260420T194044
DTSTART;TZID=Asia/Hong_Kong:20230523T150000
DTEND;TZID=Asia/Hong_Kong:20230523T160000
LOCATION:Room 1410 (Lifts 25-26), 1/F, Academic Building
SUMMARY:Department of Chemistry - PhD Student Seminar - Breaking New Ground in NOx Emission Control: Novel Catalyst Systems in NH3-Selective Catalytic Reduction
UID:37500
END:VEVENT
END:VCALENDAR