BEGIN:VCALENDAR
PRODID:-//HKUST Drupal Platform//EN
VERSION:2.0
BEGIN:VTIMEZONE
TZID:Asia/Hong_Kong
BEGIN:STANDARD
DTSTART:20071104T020000
TZOFFSETFROM:+0700
TZOFFSETTO:+0800
TZNAME:HKT
END:STANDARD
END:VTIMEZONE
BEGIN:VEVENT
DTSTAMP;TZID=Asia/Hong_Kong:20260420T190210
DTSTART;TZID=Asia/Hong_Kong:20230420T150000
DTEND;TZID=Asia/Hong_Kong:20230420T163000
LOCATION:Online Via ZOOM
SUMMARY:Training Session on T74 Social, Community and Cultural Engagement Activities Reporting System (CDCF Table 74) 
UID:37157
END:VEVENT
END:VCALENDAR