BEGIN:VCALENDAR
PRODID:-//HKUST Drupal Platform//EN
VERSION:2.0
BEGIN:VTIMEZONE
TZID:Asia/Hong_Kong
BEGIN:STANDARD
DTSTART:20071104T020000
TZOFFSETFROM:+0700
TZOFFSETTO:+0800
TZNAME:HKT
END:STANDARD
END:VTIMEZONE
BEGIN:VEVENT
DTSTAMP;TZID=Asia/Hong_Kong:20260420T180915
DTSTART;TZID=Asia/Hong_Kong:20230322T100000
DTEND;TZID=Asia/Hong_Kong:20230322T160000
LOCATION:Atrium
SUMMARY:Jockey Club Sustainable Campus Consumer Programme  - Game With Us & Learn about SDG#12
UID:37004
END:VEVENT
END:VCALENDAR