BEGIN:VCALENDAR
PRODID:-//HKUST Drupal Platform//EN
VERSION:2.0
BEGIN:VTIMEZONE
TZID:Asia/Hong_Kong
BEGIN:STANDARD
DTSTART:20071104T020000
TZOFFSETFROM:+0700
TZOFFSETTO:+0800
TZNAME:HKT
END:STANDARD
END:VTIMEZONE
BEGIN:VEVENT
DTSTAMP;TZID=Asia/Hong_Kong:20260420T132857
DTSTART;TZID=Asia/Hong_Kong:20230310T150000
DTEND;TZID=Asia/Hong_Kong:20230310T151500
LOCATION:SSC Hub (opposite to Passion)
SUMMARY:Sustainable Smart Campus as a Living Lab  - SSC Hub Quiz for IWD 2023
UID:36830
END:VEVENT
END:VCALENDAR