BEGIN:VCALENDAR
PRODID:-//HKUST Drupal Platform//EN
VERSION:2.0
BEGIN:VTIMEZONE
TZID:Asia/Hong_Kong
BEGIN:STANDARD
DTSTART:20071104T020000
TZOFFSETFROM:+0700
TZOFFSETTO:+0800
TZNAME:HKT
END:STANDARD
END:VTIMEZONE
BEGIN:VEVENT
DTSTAMP;TZID=Asia/Hong_Kong:20260420T180826
DTSTART;TZID=Asia/Hong_Kong:20230306T100000
DTEND;TZID=Asia/Hong_Kong:20230306T170000
LOCATION:SSC Digital Hub (near lift 25-26)
SUMMARY:OWN YOUR BODY – Women’s Health Exhibition
UID:36779
END:VEVENT
BEGIN:VEVENT
DTSTAMP;TZID=Asia/Hong_Kong:20260420T180826
DTSTART;TZID=Asia/Hong_Kong:20230307T100000
DTEND;TZID=Asia/Hong_Kong:20230307T170000
LOCATION:SSC Digital Hub (near lift 25-26)
SUMMARY:OWN YOUR BODY – Women’s Health Exhibition
UID:36779
END:VEVENT
BEGIN:VEVENT
DTSTAMP;TZID=Asia/Hong_Kong:20260420T180826
DTSTART;TZID=Asia/Hong_Kong:20230308T100000
DTEND;TZID=Asia/Hong_Kong:20230308T170000
LOCATION:SSC Digital Hub (near lift 25-26)
SUMMARY:OWN YOUR BODY – Women’s Health Exhibition
UID:36779
END:VEVENT
BEGIN:VEVENT
DTSTAMP;TZID=Asia/Hong_Kong:20260420T180826
DTSTART;TZID=Asia/Hong_Kong:20230309T100000
DTEND;TZID=Asia/Hong_Kong:20230309T170000
LOCATION:SSC Digital Hub (near lift 25-26)
SUMMARY:OWN YOUR BODY – Women’s Health Exhibition
UID:36779
END:VEVENT
BEGIN:VEVENT
DTSTAMP;TZID=Asia/Hong_Kong:20260420T180826
DTSTART;TZID=Asia/Hong_Kong:20230310T100000
DTEND;TZID=Asia/Hong_Kong:20230310T170000
LOCATION:SSC Digital Hub (near lift 25-26)
SUMMARY:OWN YOUR BODY – Women’s Health Exhibition
UID:36779
END:VEVENT
END:VCALENDAR