BEGIN:VCALENDAR
PRODID:-//HKUST Drupal Platform//EN
VERSION:2.0
BEGIN:VTIMEZONE
TZID:Asia/Hong_Kong
BEGIN:STANDARD
DTSTART:20071104T020000
TZOFFSETFROM:+0700
TZOFFSETTO:+0800
TZNAME:HKT
END:STANDARD
END:VTIMEZONE
BEGIN:VEVENT
DTSTAMP;TZID=Asia/Hong_Kong:20260420T110913
DTSTART;TZID=Asia/Hong_Kong:20230303T130000
DTEND;TZID=Asia/Hong_Kong:20230303T140000
LOCATION:Rm3598 / Zoom
SUMMARY:FRIDAY SEMINAR SERIES  - New Energy Transport Fund
UID:36749
END:VEVENT
END:VCALENDAR