BEGIN:VCALENDAR
PRODID:-//HKUST Drupal Platform//EN
VERSION:2.0
BEGIN:VTIMEZONE
TZID:Asia/Hong_Kong
BEGIN:STANDARD
DTSTART:20071104T020000
TZOFFSETFROM:+0700
TZOFFSETTO:+0800
TZNAME:HKT
END:STANDARD
END:VTIMEZONE
BEGIN:VEVENT
DTSTAMP;TZID=Asia/Hong_Kong:20260420T142914
DTSTART;TZID=Asia/Hong_Kong:20230228T180000
DTEND;TZID=Asia/Hong_Kong:20230228T193000
LOCATION:LT-G (near lift 25-26), Academic Building, HKUST
SUMMARY:Chinachem – ISD Talk Series: TINDAKAN, MAKSUD, URGENSI
UID:36561
END:VEVENT
END:VCALENDAR