BEGIN:VCALENDAR
PRODID:-//HKUST Drupal Platform//EN
VERSION:2.0
BEGIN:VTIMEZONE
TZID:Asia/Hong_Kong
BEGIN:STANDARD
DTSTART:20071104T020000
TZOFFSETFROM:+0700
TZOFFSETTO:+0800
TZNAME:HKT
END:STANDARD
END:VTIMEZONE
BEGIN:VEVENT
DTSTAMP;TZID=Asia/Hong_Kong:20260420T180831
DTSTART;TZID=Asia/Hong_Kong:20230227T190000
DTEND;TZID=Asia/Hong_Kong:20230227T203000
LOCATION:Room 5619 (Lift 31-32)
SUMMARY:No More Meat and No More Travel?! Envisioning a Low Carbon Life
UID:36551
END:VEVENT
END:VCALENDAR