BEGIN:VCALENDAR
PRODID:-//HKUST Drupal Platform//EN
VERSION:2.0
BEGIN:VTIMEZONE
TZID:Asia/Hong_Kong
BEGIN:STANDARD
DTSTART:20071104T020000
TZOFFSETFROM:+0700
TZOFFSETTO:+0800
TZNAME:HKT
END:STANDARD
END:VTIMEZONE
BEGIN:VEVENT
DTSTAMP;TZID=Asia/Hong_Kong:20260420T215421
DTSTART;TZID=Asia/Hong_Kong:20230130T104500
DTEND;TZID=Asia/Hong_Kong:20230130T120000
LOCATION:Room 4502, 4/F, Lift 25/26, Academic Building, HKUST
SUMMARY:Department of Chemistry Seminar - Probing the Structures and Dynamics of Metal Complexes using Photoelectron and Two-Dimensional Infrared Spectroscopies
UID:36457
END:VEVENT
END:VCALENDAR