BEGIN:VCALENDAR
PRODID:-//HKUST Drupal Platform//EN
VERSION:2.0
BEGIN:VTIMEZONE
TZID:Asia/Hong_Kong
BEGIN:STANDARD
DTSTART:20071104T020000
TZOFFSETFROM:+0700
TZOFFSETTO:+0800
TZNAME:HKT
END:STANDARD
END:VTIMEZONE
BEGIN:VEVENT
DTSTAMP;TZID=Asia/Hong_Kong:20260420T152216
DTSTART;TZID=Asia/Hong_Kong:20230323T000000
DTEND;TZID=Asia/Hong_Kong:20230401T235900
LOCATION:Foyer Exhibition Space, Shaw Auditorium
SUMMARY:Community Oral History Exhibition by Chung Ying Theatre
UID:36314
END:VEVENT
END:VCALENDAR