BEGIN:VCALENDAR
PRODID:-//HKUST Drupal Platform//EN
VERSION:2.0
BEGIN:VTIMEZONE
TZID:Asia/Hong_Kong
BEGIN:STANDARD
DTSTART:20071104T020000
TZOFFSETFROM:+0700
TZOFFSETTO:+0800
TZNAME:HKT
END:STANDARD
END:VTIMEZONE
BEGIN:VEVENT
DTSTAMP;TZID=Asia/Hong_Kong:20260420T152307
DTSTART;TZID=Asia/Hong_Kong:20230308T193000
DTEND;TZID=Asia/Hong_Kong:20230308T203000
LOCATION:Main Hall, Shaw Auditorium
SUMMARY:科大藝術節 2023  - 導賞舞蹈演出《三國知多少》
UID:36311
END:VEVENT
END:VCALENDAR