BEGIN:VCALENDAR
PRODID:-//HKUST Drupal Platform//EN
VERSION:2.0
BEGIN:VTIMEZONE
TZID:Asia/Hong_Kong
BEGIN:STANDARD
DTSTART:20071104T020000
TZOFFSETFROM:+0700
TZOFFSETTO:+0800
TZNAME:HKT
END:STANDARD
END:VTIMEZONE
BEGIN:VEVENT
DTSTAMP;TZID=Asia/Hong_Kong:20260425T224547
DTSTART;TZID=Asia/Hong_Kong:20230212T090000
DTEND;TZID=Asia/Hong_Kong:20230212T180000
LOCATION:Lo Ka Chung Building, Lee Shau Kee Campus, HKUST
SUMMARY:IAS Program - High Energy Physics (2023)
UID:36270
END:VEVENT
BEGIN:VEVENT
DTSTAMP;TZID=Asia/Hong_Kong:20260425T224547
DTSTART;TZID=Asia/Hong_Kong:20230213T090000
DTEND;TZID=Asia/Hong_Kong:20230213T180000
LOCATION:Lo Ka Chung Building, Lee Shau Kee Campus, HKUST
SUMMARY:IAS Program - High Energy Physics (2023)
UID:36270
END:VEVENT
BEGIN:VEVENT
DTSTAMP;TZID=Asia/Hong_Kong:20260425T224547
DTSTART;TZID=Asia/Hong_Kong:20230214T090000
DTEND;TZID=Asia/Hong_Kong:20230214T180000
LOCATION:Lo Ka Chung Building, Lee Shau Kee Campus, HKUST
SUMMARY:IAS Program - High Energy Physics (2023)
UID:36270
END:VEVENT
BEGIN:VEVENT
DTSTAMP;TZID=Asia/Hong_Kong:20260425T224547
DTSTART;TZID=Asia/Hong_Kong:20230215T090000
DTEND;TZID=Asia/Hong_Kong:20230215T180000
LOCATION:Lo Ka Chung Building, Lee Shau Kee Campus, HKUST
SUMMARY:IAS Program - High Energy Physics (2023)
UID:36270
END:VEVENT
BEGIN:VEVENT
DTSTAMP;TZID=Asia/Hong_Kong:20260425T224547
DTSTART;TZID=Asia/Hong_Kong:20230216T090000
DTEND;TZID=Asia/Hong_Kong:20230216T180000
LOCATION:Lo Ka Chung Building, Lee Shau Kee Campus, HKUST
SUMMARY:IAS Program - High Energy Physics (2023)
UID:36270
END:VEVENT
END:VCALENDAR