BEGIN:VCALENDAR
PRODID:-//HKUST Drupal Platform//EN
VERSION:2.0
BEGIN:VTIMEZONE
TZID:Asia/Hong_Kong
BEGIN:STANDARD
DTSTART:20071104T020000
TZOFFSETFROM:+0700
TZOFFSETTO:+0800
TZNAME:HKT
END:STANDARD
END:VTIMEZONE
BEGIN:VEVENT
DTSTAMP;TZID=Asia/Hong_Kong:20260420T180827
DTSTART;TZID=Asia/Hong_Kong:20221220T130000
DTEND;TZID=Asia/Hong_Kong:20221220T140000
LOCATION:SSC Hub (next to the Passion Restaurant)
SUMMARY:Sustainable Smart Campus Christmas Show 
UID:36029
END:VEVENT
END:VCALENDAR