BEGIN:VCALENDAR
PRODID:-//HKUST Drupal Platform//EN
VERSION:2.0
BEGIN:VTIMEZONE
TZID:Asia/Hong_Kong
BEGIN:STANDARD
DTSTART:20071104T020000
TZOFFSETFROM:+0700
TZOFFSETTO:+0800
TZNAME:HKT
END:STANDARD
END:VTIMEZONE
BEGIN:VEVENT
DTSTAMP;TZID=Asia/Hong_Kong:20260420T180910
DTSTART;TZID=Asia/Hong_Kong:20221123T193000
DTEND;TZID=Asia/Hong_Kong:20221123T210000
LOCATION:TBC
SUMMARY:HKUST Free Skills Sharing - Guitar Workshop Series   - A glimpse of diverse music from the world in fingerstyle guitar
UID:35937
END:VEVENT
END:VCALENDAR