BEGIN:VCALENDAR
PRODID:-//HKUST Drupal Platform//EN
VERSION:2.0
BEGIN:VTIMEZONE
TZID:Asia/Hong_Kong
BEGIN:STANDARD
DTSTART:20071104T020000
TZOFFSETFROM:+0700
TZOFFSETTO:+0800
TZNAME:HKT
END:STANDARD
END:VTIMEZONE
BEGIN:VEVENT
DTSTAMP;TZID=Asia/Hong_Kong:20260420T004630
DTSTART;TZID=Asia/Hong_Kong:20221101T103000
DTEND;TZID=Asia/Hong_Kong:20221101T113000
LOCATION:https://meeting.tencent.com/dm/maTygA7QH32o
SUMMARY:DSA Thrust Webinar-Data-Centric Explainable Machine Learning: A Visual Analytics Perspective
UID:35870
END:VEVENT
END:VCALENDAR