BEGIN:VCALENDAR
PRODID:-//HKUST Drupal Platform//EN
VERSION:2.0
BEGIN:VTIMEZONE
TZID:Asia/Hong_Kong
BEGIN:STANDARD
DTSTART:20071104T020000
TZOFFSETFROM:+0700
TZOFFSETTO:+0800
TZNAME:HKT
END:STANDARD
END:VTIMEZONE
BEGIN:VEVENT
DTSTAMP;TZID=Asia/Hong_Kong:20260426T103342
DTSTART;TZID=Asia/Hong_Kong:20220928T143000
DTEND;TZID=Asia/Hong_Kong:20220928T171500
LOCATION:騰訊會議 會議ID 782-009-567
SUMMARY:香港科技大學及深圳市大灣區金融研究院線上學術會議《數據生產要素與跨境金融》
UID:35546
END:VEVENT
END:VCALENDAR