BEGIN:VCALENDAR
PRODID:-//HKUST Drupal Platform//EN
VERSION:2.0
BEGIN:VTIMEZONE
TZID:Asia/Hong_Kong
BEGIN:STANDARD
DTSTART:20071104T020000
TZOFFSETFROM:+0700
TZOFFSETTO:+0800
TZNAME:HKT
END:STANDARD
END:VTIMEZONE
BEGIN:VEVENT
DTSTAMP;TZID=Asia/Hong_Kong:20260420T202548
DTSTART;TZID=Asia/Hong_Kong:20220909T133000
DTEND;TZID=Asia/Hong_Kong:20220909T134500
LOCATION:SSC Hub (Outside Passion)
SUMMARY:SSC Hub Quiz Marathon   
UID:35389
END:VEVENT
END:VCALENDAR