BEGIN:VCALENDAR
PRODID:-//HKUST Drupal Platform//EN
VERSION:2.0
BEGIN:VTIMEZONE
TZID:Asia/Hong_Kong
BEGIN:STANDARD
DTSTART:20071104T020000
TZOFFSETFROM:+0700
TZOFFSETTO:+0800
TZNAME:HKT
END:STANDARD
END:VTIMEZONE
BEGIN:VEVENT
DTSTAMP;TZID=Asia/Hong_Kong:20260420T190207
DTSTART;TZID=Asia/Hong_Kong:20220924T090000
DTEND;TZID=Asia/Hong_Kong:20220924T144500
LOCATION:Room 4582, lifts 29-30
SUMMARY:Umbrella Repair Workshop 
UID:35375
END:VEVENT
END:VCALENDAR