BEGIN:VCALENDAR
PRODID:-//HKUST Drupal Platform//EN
VERSION:2.0
BEGIN:VTIMEZONE
TZID:Asia/Hong_Kong
BEGIN:STANDARD
DTSTART:20071104T020000
TZOFFSETFROM:+0700
TZOFFSETTO:+0800
TZNAME:HKT
END:STANDARD
END:VTIMEZONE
BEGIN:VEVENT
DTSTAMP;TZID=Asia/Hong_Kong:20260420T112735
DTSTART;TZID=Asia/Hong_Kong:20220914T100000
DTEND;TZID=Asia/Hong_Kong:20220914T130000
LOCATION:Room 3575 (Lifts 27-28), 3/F Academic Building, HKUST
SUMMARY:PHD in Civil Engineering - Attenuation mechanism of bouldery flow impact on rigid barrier shielded by cushion materials
UID:35305
END:VEVENT
END:VCALENDAR