BEGIN:VCALENDAR
PRODID:-//HKUST Drupal Platform//EN
VERSION:2.0
BEGIN:VTIMEZONE
TZID:Asia/Hong_Kong
BEGIN:STANDARD
DTSTART:20071104T020000
TZOFFSETFROM:+0700
TZOFFSETTO:+0800
TZNAME:HKT
END:STANDARD
END:VTIMEZONE
BEGIN:VEVENT
DTSTAMP;TZID=Asia/Hong_Kong:20260420T142912
DTSTART;TZID=Asia/Hong_Kong:20220826T100000
DTEND;TZID=Asia/Hong_Kong:20220826T130000
LOCATION:Room 3574, (Lifts, 27-28), 3/F Academic Building, HKUST
SUMMARY:PHD in Civil Engineering - Automated Monitoring of Pedestrian Walkability Integrating Video Analytics with Deep Learning-based Computer Vision Techniques and BIM-GIS Modeling
UID:35117
END:VEVENT
END:VCALENDAR